BEGIN:VCALENDAR
VERSION:2.0
PRODID:-//Radio Poder de Cristo - ECPv5.8.0//NONSGML v1.0//EN
CALSCALE:GREGORIAN
METHOD:PUBLISH
X-WR-CALNAME:Radio Poder de Cristo
X-ORIGINAL-URL:https://poderdecristo.com
X-WR-CALDESC:Events for Radio Poder de Cristo
BEGIN:VTIMEZONE
TZID:America/Chicago
BEGIN:DAYLIGHT
TZOFFSETFROM:-0600
TZOFFSETTO:-0500
TZNAME:CDT
DTSTART:20210314T080000
END:DAYLIGHT
BEGIN:STANDARD
TZOFFSETFROM:-0500
TZOFFSETTO:-0600
TZNAME:CST
DTSTART:20211107T070000
END:STANDARD
END:VTIMEZONE
BEGIN:VEVENT
DTSTART;TZID=America/Chicago:20210715T170000
DTEND;TZID=America/Chicago:20210715T173000
DTSTAMP:20260422T135532
CREATED:20210715T211058Z
LAST-MODIFIED:20210716T141546Z
UID:2292-1626368400-1626370200@poderdecristo.com
SUMMARY:Una voz de esperanza
DESCRIPTION:Nos acompañaran:\nSintonizanos en la 104.9FM \nPastor Sergio Rayos\nPastor Ezequiel Gutierrez\nPastor Diego Mora\nPastora Scarleth Rojas\n 
URL:https://poderdecristo.com/event/una-voz-de-esperanza/
CATEGORIES:Programas de Radio
END:VEVENT
BEGIN:VEVENT
DTSTART;TZID=America/Chicago:20210716T170000
DTEND;TZID=America/Chicago:20210716T173000
DTSTAMP:20260422T135532
CREATED:20210716T201323Z
LAST-MODIFIED:20210716T202101Z
UID:2345-1626454800-1626456600@poderdecristo.com
SUMMARY:UNA VOZ DE ESPERANZA
DESCRIPTION:Pastor Ezequiel Gutiérrez
URL:https://poderdecristo.com/event/una-voz-de-esperanza-2/
CATEGORIES:Programas de Radio
END:VEVENT
BEGIN:VEVENT
DTSTART;TZID=America/Chicago:20210721T170000
DTEND;TZID=America/Chicago:20210721T173000
DTSTAMP:20260422T135532
CREATED:20210721T163558Z
LAST-MODIFIED:20210721T163558Z
UID:2414-1626886800-1626888600@poderdecristo.com
SUMMARY:UNA VOZ DE ESPERANZA
DESCRIPTION:ESCUCHANNOS EL DIA DE HOY DESDE LAS 5PM ESTAREMOS COMPARTIENDO UN M ENSAJE DE ESPERANZA.
URL:https://poderdecristo.com/event/una-voz-de-esperanza-3/
ATTACH;FMTTYPE=image/jpeg:https://poderdecristo.com/wp-content/uploads/2021/07/WhatsApp-Image-2021-07-15-at-8.39.52-PM.jpeg
END:VEVENT
BEGIN:VEVENT
DTSTART;TZID=America/Chicago:20210728T170000
DTEND;TZID=America/Chicago:20210728T173000
DTSTAMP:20260422T135532
CREATED:20210728T224915Z
LAST-MODIFIED:20210729T160212Z
UID:2460-1627491600-1627493400@poderdecristo.com
SUMMARY:Una voz de esperanza
DESCRIPTION:Pastor Sergio Rayos
URL:https://poderdecristo.com/event/una-voz-de-esperanza-4/
CATEGORIES:Programas de Radio
ATTACH;FMTTYPE=image/jpeg:https://poderdecristo.com/wp-content/uploads/2021/07/WhatsApp-Image-2021-07-15-at-8.39.52-PM.jpeg
END:VEVENT
BEGIN:VEVENT
DTSTART;TZID=America/Chicago:20210729T170000
DTEND;TZID=America/Chicago:20210729T173000
DTSTAMP:20260422T135532
CREATED:20210729T155642Z
LAST-MODIFIED:20210729T160134Z
UID:2468-1627578000-1627579800@poderdecristo.com
SUMMARY:Una voz de Esperanza
DESCRIPTION:
URL:https://poderdecristo.com/event/una-voz-de-esperanza-5/
CATEGORIES:Programas de Radio
ATTACH;FMTTYPE=image/jpeg:https://poderdecristo.com/wp-content/uploads/2021/07/IMG_20210715_165554.jpg
END:VEVENT
END:VCALENDAR